BEGIN:VCALENDAR
VERSION:2.0
PRODID:-//Barayamal//Grants Directory//EN
CALSCALE:GREGORIAN
BEGIN:VEVENT
UID:bgd-10210@barayamal.com.au
DTSTAMP:20260424T082613Z
DTSTART;VALUE=DATE:20260424
DTEND;VALUE=DATE:20260425
SUMMARY:Grant deadline: Westpac Foundation &#8211\; Better Futures Grants
DESCRIPTION:Westpac Foundation &#8211\; Better Futures Grants\nFunder: Westpac Foundation\nAmount: $50\,000 per year for two years\nCloses: 24 Apr 2026\nApply / more info: https://www.westpac.com.au/about-westpac/our-foundations/\nDetails: https://barayamal.com.au/grants/westpac-foundation-better-futures-grants/
URL:https://barayamal.com.au/grants/westpac-foundation-better-futures-grants/
END:VEVENT
END:VCALENDAR