BEGIN:VCALENDAR
VERSION:2.0
PRODID:-//Barayamal//Grants Directory//EN
CALSCALE:GREGORIAN
BEGIN:VEVENT
UID:bgd-10217@barayamal.com.au
DTSTAMP:20260420T095024Z
DTSTART;VALUE=DATE:20260503
DTEND;VALUE=DATE:20260504
SUMMARY:Grant deadline: Harcourts Foundation Grants Round 69
DESCRIPTION:Harcourts Foundation Grants Round 69\nFunder: Harcourts Foundation Australia\nAmount: Previous state-level grants: $500 - $18\,000\; national grants: up to $50\,000\nCloses: 3 May 2026\nApply / more info: https://www.harcourtsfoundation.org/australia/\nDetails: https://barayamal.com.au/grants/harcourts-foundation-grants-round-69/
URL:https://barayamal.com.au/grants/harcourts-foundation-grants-round-69/
END:VEVENT
END:VCALENDAR
