BEGIN:VCALENDAR
VERSION:2.0
PRODID:-//Barayamal//Grants Directory//EN
CALSCALE:GREGORIAN
BEGIN:VEVENT
UID:bgd-10219@barayamal.com.au
DTSTAMP:20260420T094945Z
DTSTART;VALUE=DATE:20260504
DTEND;VALUE=DATE:20260505
SUMMARY:Grant deadline: Reconnection\, Employment and Learning (REAL) Innovation Fund Phase 2
DESCRIPTION:Reconnection\, Employment and Learning (REAL) Innovation Fund Phase 2\nFunder: Australian Government Department of Employment and Workplace Relations\nAmount: approximately $432\,000 and $5.06 million\nCloses: 4 May 2026\nApply / more info: https://www.dewr.gov.au\nDetails: https://barayamal.com.au/grants/reconnection-employment-and-learning-real-innovation-fund-phase-2/
URL:https://barayamal.com.au/grants/reconnection-employment-and-learning-real-innovation-fund-phase-2/
END:VEVENT
END:VCALENDAR
