BEGIN:VCALENDAR
VERSION:2.0
PRODID:-//Barayamal//Grants Directory//EN
CALSCALE:GREGORIAN
BEGIN:VEVENT
UID:bgd-10222@barayamal.com.au
DTSTAMP:20260420T094940Z
DTSTART;VALUE=DATE:20260512
DTEND;VALUE=DATE:20260513
SUMMARY:Grant deadline: UNESCO Prize for Girls&#8217\; and Women&#8217\;s Education
DESCRIPTION:UNESCO Prize for Girls&#8217\; and Women&#8217\;s Education\nFunder: UNESCO United Nations Educational Scientific and Cultural Organisation\nAmount: US $50\,000\nCloses: 12 May 2026\nApply / more info: https://en.unesco.org/\nDetails: https://barayamal.com.au/grants/unesco-prize-for-girls-and-womens-education/
URL:https://barayamal.com.au/grants/unesco-prize-for-girls-and-womens-education/
END:VEVENT
END:VCALENDAR
