BEGIN:VCALENDAR
VERSION:2.0
PRODID:-//Barayamal//Grants Directory//EN
CALSCALE:GREGORIAN
BEGIN:VEVENT
UID:bgd-10226@barayamal.com.au
DTSTAMP:20260420T082845Z
DTSTART;VALUE=DATE:20260515
DTEND;VALUE=DATE:20260516
SUMMARY:Grant deadline: The Salter Foundation
DESCRIPTION:The Salter Foundation\nFunder: The Salter Foundation\nAmount: up to $5\,000\nCloses: 15 May 2026\nApply / more info: https://www.salterfoundation.org.au/\nDetails: https://barayamal.com.au/grants/the-salter-foundation/
URL:https://barayamal.com.au/grants/the-salter-foundation/
END:VEVENT
END:VCALENDAR
