BEGIN:VCALENDAR
VERSION:2.0
PRODID:-//Barayamal//Grants Directory//EN
CALSCALE:GREGORIAN
BEGIN:VEVENT
UID:bgd-10238@barayamal.com.au
DTSTAMP:20260420T111645Z
DTSTART;VALUE=DATE:20260602
DTEND;VALUE=DATE:20260603
SUMMARY:Grant deadline: AusArt Day Micro Grants
DESCRIPTION:AusArt Day Micro Grants\nFunder: Creative Australia\nAmount: $2\,500 for artists (and collectives)\; $5\,000 for organisations.\nCloses: 2 Jun 2026\nApply / more info: https://creative.gov.au/\nDetails: https://barayamal.com.au/grants/ausart-day-micro-grants/
URL:https://barayamal.com.au/grants/ausart-day-micro-grants/
END:VEVENT
END:VCALENDAR
